BEGIN:VCALENDAR
PRODID:NingEventWidget-v1
VERSION:2.0
METHOD:PUBLISH
BEGIN:VEVENT
UID:4320450:Event:38633
DTSTAMP:20260425T130625Z
SUMMARY:East Passyunk Fall Fest and Spooky Saturday
DESCRIPTION:East Passyunk invites you to the 3rd Annual Fall Fest and 
 Spooky Saturday on Saturday, October 25, 2014 from 11am to 4pm at the 
 Singing Foundation (Tasker/Passyunk). This annual Halloween celebratio
 n will feature free activities for children, adults and even fido too!
   SpookySaturday activities include cider and donuts, pumpkin paintin
 g, costume contests for children and dogs, pet treats, art lessons and
  a kids’ dance party. Trick or treating will expand this year to inc
 lude the blocks between the Singing Fountain and the Mifflin Triangle.
  Free treat bags will be available at the Singing Fountain for the fir
 st 500 children. Fall Fest activities for the adults include a craft s
 how curated by Nice Things..Handmade, three live bands, pumpkins and f
 all foliage at Urban Jungle, a raffle from Philadelphia Scooters, and 
 adoptables from local shelters. Fall food and spirits will be availabl
 e from bars/restaurants directly located on the Singing Fountain, as w
 ell as by other EPA restaurants and local food trucks. Most activities
  will be held at the Singing Fountain (EPA and Tasker), with select ac
 tivities to be held at Mifflin Triangle (EPA and Mifflin). For more in
 formation, visit www.visiteastpassyunk.com, call 215-336-1455, like EP
 ABID on Facebook and follow @epassyunkave on Twitter.\n \nSpecial tha
 nks to our sponsors: Acme, Aversa PR, Doggie Style, Nice Things Handma
 de, Passyunk Avenue Revitalization Corporation, South Philly Review, W
 here Magazine and Yelp.\n \n\nFor more information visit http://phill
 ytodo.com/events/east-passyunk-fall-fest-and-spooky-saturday
DTSTART:20141025T150000Z
DTEND:20141025T200000Z
CATEGORIES:outdoor, celebration
LOCATION:The Singing Fountain
WEBSITE:https://www.facebook.com/events/1467452200188915/
URL:https://www.facebook.com/events/1467452200188915/
CONTACT:
ORGANIZER;CN="Aversa PR & Events":http://phillytodo.com/profile/KoryAv
 ersa277
ATTACH;FMTTYPE="image/jpeg":http://storage.ning.com/topology/rest/1.0/
 file/get/3054981354?profile=original
ATTENDEE;ROLE=REQ-PARTICIPANT;PARTSTAT=ACCEPTED;RSVP=TRUE;CN="Aversa P
 R & Events":http://phillytodo.com/profile/KoryAversa277
END:VEVENT
END:VCALENDAR
