BEGIN:VCALENDAR
PRODID:NingEventWidget-v1
VERSION:2.0
METHOD:PUBLISH
BEGIN:VEVENT
UID:4320450:Event:35796
DTSTAMP:20260425T124916Z
SUMMARY:East Passyunk Easter Egg Hunt
DESCRIPTION:Hop on down for the East Passyunk Easter Egg Hunt with mak
 e-your-own egg collecting bags, arts and crafts, music from Ben FM, ph
 otos with the Easter Bunny, and thousands of candy/prize filled eggs. 
 Children are invited by age group to find thousands of eggs and surpri
 ses. Times are staggered by age group, with four and under at 11:00 AM
 , five to seven at 12:00 PM and eight to ten at at 1:00 PM. Free and o
 pen to the public. For more info, visit www.visiteastpassyunk.com or 
 call 215-336-1455.\n\nFor more information visit http://phillytodo.com
 /events/east-passyunk-easter-egg-hunt
DTSTART:20140405T150000Z
DTEND:20140405T170000Z
CATEGORIES:"easter egg hunt"
LOCATION:South Philadelphia Older Adult Center
WEBSITE:http://visiteastpassyunk.com/events.htm
URL:http://visiteastpassyunk.com/events.htm
CONTACT:215-336-1455
ORGANIZER;CN="Aversa PR & Events":http://phillytodo.com/profile/KoryAv
 ersa277
ATTACH;FMTTYPE="image/jpeg":http://storage.ning.com/topology/rest/1.0/
 file/get/3054963276?profile=original
ATTENDEE;ROLE=REQ-PARTICIPANT;PARTSTAT=ACCEPTED;RSVP=TRUE;CN="Aversa P
 R & Events":http://phillytodo.com/profile/KoryAversa277
END:VEVENT
END:VCALENDAR
