BEGIN:VCALENDAR
PRODID:NingEventWidget-v1
VERSION:2.0
METHOD:PUBLISH
BEGIN:VEVENT
UID:4320450:Event:57613
DTSTAMP:20260425T112518Z
SUMMARY:East Passyunk Easter Egg Hunt
DESCRIPTION:Hop on down to East Passyunk Avenue for a day of ‘egg-ci
 ting’ Easter festivities! On Saturday, April 13, 2019, East Passyunk
  Avenue Business Improvement District (EPABID) presents the Annual Eas
 t Passyunk Easter Egg Hunt from 11:00am to 2:00pm on the lawn of the S
 outh Philadelphia Older Adult Center (1430 East Passyunk). Children wi
 ll have the opportunity to decorate egg-collecting bags, enjoy treats,
  dance to family-friendly tunes and hunt for prize-filled eggs at this
  free event.  Egg Hunt times are staggered by age group, with four an
 d under at 11:00am, five to seven at 12:00pm and eight to ten at at 1:
 00pm. After the festivities, families are invited to enjoy special bru
 nch menus and bakery discounts at eateries along East Passyunk. The Eg
 g Hunt is free and open to the public. For more information, go to www
 .visiteastpassyunk.com or call 215-336-1455.\n\n\nFor more information
  visit http://phillytodo.com/events/east-passyunk-easter-egg-hunt-1
DTSTART:20190413T150000Z
DTEND:20190413T180000Z
CATEGORIES:family, friendly
LOCATION:South Philadelphia Older Adult Center
WEBSITE:http://www.visiteastpassyunk.com/events/east-passyunk-easter-e
 gg-hunt-2019.php
URL:http://www.visiteastpassyunk.com/events/east-passyunk-easter-egg-h
 unt-2019.php
CONTACT:2153361455
ORGANIZER;CN="Aversa PR & Events":http://phillytodo.com/profile/KoryAv
 ersa277
ATTACH;FMTTYPE="image/jpeg":https://storage.ning.com/topology/rest/1.0
 /file/get/1215707460?profile=original
ATTENDEE;ROLE=REQ-PARTICIPANT;PARTSTAT=ACCEPTED;RSVP=TRUE;CN="Aversa P
 R & Events":http://phillytodo.com/profile/KoryAversa277
END:VEVENT
END:VCALENDAR
