BEGIN:VCALENDAR
PRODID:NingEventWidget-v1
VERSION:2.0
METHOD:PUBLISH
BEGIN:VEVENT
UID:4320450:Event:34350
DTSTAMP:20260425T143042Z
SUMMARY:East Passyunk Antique & Vintage Flea Market
DESCRIPTION:Philadelphia Flea Markets returns to East Passyunk with mo
 re than 60 vendors featuring antiques, collectibles, vintage furniture
 , jewelry, clothing and accessories, glassware, pottery and much more.
  Stop by El Zarape and Mamma Maria for some special street food to sna
 ck on while you shop. Vendors will set up in and around the municipal 
 lot on the 1600 Block of E. Passyunk Avenue between Morris & Tasker. T
 his event is sponsored by Philadelphia Flea Markets. Rain date is Sund
 ay, September 22, 2013. For more information visit www.visiteastpassyu
 nk.com\n\nFor more information visit http://phillytodo.com/events/east
 -passyunk-antique-vintage-flea-market-2
DTSTART:20130921T120000Z
DTEND:20130921T200000Z
CATEGORIES:flea, market, antiques, vintage
LOCATION:East Passyunk Avenue  Municipal Parking Lot
WEBSITE:http://www.visiteastpassyunk.com
URL:http://www.visiteastpassyunk.com
CONTACT:215-840-9216
ORGANIZER;CN="Aversa PR & Events":http://phillytodo.com/profile/KoryAv
 ersa277
ATTACH;FMTTYPE="image/jpeg":http://storage.ning.com/topology/rest/1.0/
 file/get/3054965295?profile=original
ATTENDEE;ROLE=REQ-PARTICIPANT;PARTSTAT=ACCEPTED;RSVP=TRUE;CN="Aversa P
 R & Events":http://phillytodo.com/profile/KoryAversa277
END:VEVENT
END:VCALENDAR
