BEGIN:VCALENDAR
PRODID:NingEventWidget-v1
VERSION:2.0
METHOD:PUBLISH
BEGIN:VEVENT
UID:4320450:Event:32355
DTSTAMP:20260425T144658Z
SUMMARY:East Passyunk Antique & Vintage Flea Market
DESCRIPTION:Philadelphia Flea Markets returns to East Passyunk with 60
  vendors featuring antiques, collectibles, vintage furniture, jewelry,
  clothing, glassware, pottery and much more. Stop by El Zarape for som
 e authentic Mexican street food to snack on while you shop. Vendors wi
 ll set up in and around the municipal lot on the 1600 Block of E. Pass
 yunk Avenue between Morris & Tasker. This event is sponsored by Philad
 elphia Flea Markets. Rain date is June 9. For more information visit w
 ww.visiteastpassyunk.com\n\nFor more information visit http://phillyto
 do.com/events/east-passyunk-antique-vintage-flea-market-1
DTSTART:20130608T120000Z
DTEND:20130608T200000Z
CATEGORIES:flea, market, antiques, vintage
LOCATION:East Passyunk Avenue Parking Lot
WEBSITE:http://www.visiteastpassyunk.com
URL:http://www.visiteastpassyunk.com
CONTACT:215-840-9216
ORGANIZER;CN="Aversa PR & Events":http://phillytodo.com/profile/KoryAv
 ersa277
ATTACH;FMTTYPE="image/jpeg":http://storage.ning.com/topology/rest/1.0/
 file/get/3054965295?profile=original
ATTENDEE;ROLE=REQ-PARTICIPANT;PARTSTAT=ACCEPTED;RSVP=TRUE;CN="Aversa P
 R & Events":http://phillytodo.com/profile/KoryAversa277
END:VEVENT
END:VCALENDAR
