BEGIN:VCALENDAR
PRODID:NingEventWidget-v1
VERSION:2.0
METHOD:PUBLISH
BEGIN:VEVENT
UID:4320450:Event:32929
DTSTAMP:20260425T133331Z
SUMMARY:East Passyunk 8th Annual Car Show and Street Festival
DESCRIPTION:East Passyunk Avenue Business Improvement District (EPABID
 ) is revving up for the 8th Annual Car Show and Street Festival on Sun
 day, July 28, 2013, from Noon to 5:00pm, on EPA between Broad and Dick
 inson streets.  More than 140 cars, motorcycles and trucks are expect
 ed to compete for Best of Show and other top honors. The accompanying 
 street festival will feature live music, circus performances, street 
 vendors, rack sales, kids’ activities and the Bang! Boom! CRAFT! Sho
 w.  Wine and dine among the cars as award-winning restaurants serve 
 street food and summertime drinks at festival prices.  Admission is F
 REE for attendees and $15 for cars. The rain date is Sunday, August 4,
  2013. For information, visit www.visiteastpassyunk.com.\nMore than 14
 0 muscle, classic, antique, custom and show cars, trucks and motorcycl
 es will line the five blocks between Broad and Dickinson streets. The 
 fee for participating cars is $15 per vehicle. Registration will take 
 place at Broad and EPA between 8:00am and 1:00pm. Space is available o
 n a first come, first served basis.\nTrophies will be awarded in dozen
 s of categories, including: Top 50, Best Stock, Best Modified, Best En
 gine, Best Paint, Best 50’s Custom, Best Street Rod, Best Low Rider,
  Best Truck, Best Motorcycle, and Best of Show Car and Motorcycle. One
  winner will also be honored with the title of “People’s Choice”
  voted on during the show and on social\nmedia. Live music will keep t
 hings moving and grooving with a different band on each block.  All m
 usic is outdoors unless otherwise noted.\nEast Passyunk’s award-winn
 ing restaurants will serve special street food and summertime beverage
 s.  Nearly all food and drink served outside will be specially priced
  at $5.00 or less.\nOther festivities for everyone in the family will 
 include:\n•  Bang! Boom! CRAFT! Show at the Fountain  – Handmade
  items from 40 crafters and artists, including Gearforms, Hog Island P
 ress, Krista Peel Jewelry and Rachel Ink\n•  Charm City Movement Ar
 ts – Circus performances and tightrope demos between 2:00pm and 4:0
 0pm\n•  Kid Zone  – Free moon bounce, art classes with Young Rem
 brandts, face painting, entertainment, more\n•  Mobile food – Lit
 tle Baby’s Ice Cream,  Tot Truck, Weckerlys Ice Cream\n•  Pretze
 l Crisps – Free snack break station with free samples while supplie
 s last\n•  Rack sales – 1600 Below Vintage, ADDICTION Boutique, H
 ip & Thrifty, Metro Mens, others\n•  Street vendors – Car memora
 bilia and accessories, jewelry,sunglasses, Italian-themed shirts and h
 ats\n•  Other – Debut of East Passyunk branded tote bags, raffle 
 from YELP and much more!\nThe 8th Annual Car Show and Street Festival
 , formerly known as the Doo Wop, is hosted by the Northeast Muscle Car
  Club and presented by East Passyunk Avenue Business Improvement Distr
 ict.  Sponsors include Yelp,\nPassyunk Avenue Revitalization Corporat
 ion, South Philly Review and WOGL.\n \n\nFor more information visit h
 ttp://phillytodo.com/events/east-passyunk-8th-annual-car-show-and-stre
 et-festival
DTSTART:20130728T160000Z
DTEND:20130728T210000Z
CATEGORIES:car, show, festival
LOCATION:East Passyunk Avenue (between Broad and Dickinson)
WEBSITE:
URL:
CONTACT:215-336-1455
ORGANIZER;CN="Aversa PR & Events":http://phillytodo.com/profile/KoryAv
 ersa277
ATTACH;FMTTYPE="image/jpeg":http://storage.ning.com/topology/rest/1.0/
 file/get/3054966698?profile=original
ATTENDEE;ROLE=REQ-PARTICIPANT;PARTSTAT=ACCEPTED;RSVP=TRUE;CN="Aversa P
 R & Events":http://phillytodo.com/profile/KoryAversa277
END:VEVENT
END:VCALENDAR
