BEGIN:VCALENDAR
PRODID:NingEventWidget-v1
VERSION:2.0
METHOD:PUBLISH
BEGIN:VEVENT
UID:4320450:Event:34852
DTSTAMP:20260425T162024Z
SUMMARY:East Passyunk 2nd annual Spooky Saturday
DESCRIPTION:East Passyunk Avenue Business Improvement District (EPABID
 ) presents a day of spooktacular fun with East Passyunk's 2nd Annual S
 pooky Saturday on October 26, 2013 from 11am-4pm. Get on your best cos
 tumes and head out for a day of fun for the whole family! This annual 
 Halloween celebration offers live music, performances, cider and dough
 nuts, crafts, trick-or-treating and free activities including pumpkin 
 painting, costume contests for children and dogs, art lessons and a ki
 ds’ dance party. Event is rain or shine. For more info., visit www.v
 isteastpassyunk.com, follow @epassyunkave on Twitter and like EPassyun
 kAve on Facebook.\n \nTrick or treating will expand this year to incl
 ude the blocks between the Singing Fountain and the Mifflin Triangle. 
 Free treat bags will be available at the Singing Fountain for the firs
 t 500 children courtesy of Aversa PR & Events. The day’s events incl
 ude:\n \n~~ SINGING FOUNTAIN ~~\n \nKids Zone (11am to 1pm)\n* Kids'
  costume contest for Scariest, Funniest + Most Original, staggered by 
 age groups\n* Pumpkin painting\n* Trick or treating at craft show\n* F
 ree trick or treat bags from Aversa PR & Events\n* Kids' dance party t
 o spooktacular tunes\n \n \n~~ STROLL THE AVENUE ~~\n \nTrick or Tr
 eating\n* Alphabet Aquarium - Temporary Tattoos (11am to 1pm)\n* Headh
 unters Hair Design - Trick or treating (1pm to 4pm)\n* Noir Restaurant
  - Trick or Treating (1pm to 4pm)\n* Aversa PR & Events - Trick or Tre
 ating (1pm to 4pm)\n \n~~ MIFFLIN TRIANGLE ~~\n \nKids Zone (1:30pm 
 to 3:30pm)\n* Ben FM playing musical favorites + games\n* Cider and do
 nuts\n* Spooky chalk drawing\n\nFor more information visit http://phil
 lytodo.com/events/east-passyunk-2nd-annual-spooky-saturday
DTSTART:20131026T150000Z
DTEND:20131026T200000Z
CATEGORIES:festival, halloween
LOCATION:Singing Fountain
WEBSITE:http://www.visiteastpassyunk.com/events.htm
URL:http://www.visiteastpassyunk.com/events.htm
CONTACT:215-840-9216
ORGANIZER;CN="Aversa PR & Events":http://phillytodo.com/profile/KoryAv
 ersa277
ATTACH;FMTTYPE="image/jpeg":http://storage.ning.com/topology/rest/1.0/
 file/get/3054967558?profile=original
ATTENDEE;ROLE=REQ-PARTICIPANT;PARTSTAT=ACCEPTED;RSVP=TRUE;CN="Aversa P
 R & Events":http://phillytodo.com/profile/KoryAversa277
END:VEVENT
END:VCALENDAR
