BEGIN:VCALENDAR
PRODID:NingEventWidget-v1
VERSION:2.0
METHOD:PUBLISH
BEGIN:VEVENT
UID:4320450:Event:35749
DTSTAMP:20260425T144559Z
SUMMARY:Earth Day: Volunteer with Greensgrow
DESCRIPTION:Every year on Earth Day Greensgrow Farms joins forces with
  neighborhood organizations and sponsors to raise an army of volunteer
 s and beautify our neighborhood, from parks to senior centers, to negl
 ected street corners.  This year we are teaming up with Subaru and Gr
 een Mountain Energy’s Sun Club to plant and hoe and celebrate Earth 
 Day together – and we need YOUR HELP!\nJoin us for a full day of act
 ivities – including a dedication ceremony for our new solar pavilion
 , a 15 foot high structure that captures the sun’s energy and helps 
 to power the farm. After we flip the switch, we’ll enjoy breakfast, 
 then break up into teams and start planting! Green Mountain Energy’s
  Sun Club will provide some fun surprises to reward our dedicated volu
 nteers at lunchtime. Then we’ll finish our beautification projects, 
 and the whole neighborhood will enjoy the fruits of our labor all seas
 on long.\nWant to help? Sign up today! http://www.greensgrow.org/event
 /earth-day-volunteer-at-greensgrow-2/\n\nFor more information visit ht
 tp://phillytodo.com/events/earth-day-volunteer-with-greensgrow
DTSTART:20140422T150000Z
DTEND:20140422T190000Z
CATEGORIES:volunteer, earth, day, celebration
LOCATION:Greensgrow Farms
WEBSITE:http://www.greensgrow.org
URL:http://www.greensgrow.org
CONTACT:215-427-2780
ORGANIZER;CN="Greensgrow Farms":http://phillytodo.com/profile/Greensgr
 owFarms
ATTACH;FMTTYPE="image/jpeg":
ATTENDEE;ROLE=REQ-PARTICIPANT;PARTSTAT=ACCEPTED;RSVP=TRUE;CN="Greensgr
 ow Farms":http://phillytodo.com/profile/GreensgrowFarms
END:VEVENT
END:VCALENDAR
