BEGIN:VCALENDAR
PRODID:NingEventWidget-v1
VERSION:2.0
METHOD:PUBLISH
BEGIN:VEVENT
UID:4320450:Event:36885
DTSTAMP:20260425T175147Z
SUMMARY:Early Summer Native Plant Sale
DESCRIPTION:Celebrate summer by adding pollinator-friendly plants to 
 your garden. Our nursery is stocked with a wide selection of flowerin
 g shrubs, vines, and perennials that provide important food for insec
 t larvae and pollinators throughout the summer. Staff and volunteers 
 will be on hand to help you select the right plants for your garden.\
 n\nFor more information visit http://phillytodo.com/events/early-summe
 r-native-plant-sale
DTSTART:20140628T130000Z
DTEND:20140628T180000Z
CATEGORIES:plant, sale
LOCATION:The Schuylkill Center for Environmental Education
WEBSITE:http://www.schuylkillcenter.org/
URL:http://www.schuylkillcenter.org/
CONTACT:2154827300
ORGANIZER;CN="The Schuylkill Center":http://phillytodo.com/profile/Ann
 aLehrMueser
ATTACH;FMTTYPE="image/jpeg":http://storage.ning.com/topology/rest/1.0/
 file/get/3054978892?profile=original
ATTENDEE;ROLE=REQ-PARTICIPANT;PARTSTAT=ACCEPTED;RSVP=TRUE;CN="The Schu
 ylkill Center":http://phillytodo.com/profile/AnnaLehrMueser
END:VEVENT
END:VCALENDAR
