BEGIN:VCALENDAR
PRODID:NingEventWidget-v1
VERSION:2.0
METHOD:PUBLISH
BEGIN:VEVENT
UID:4320450:Event:40904
DTSTAMP:20260425T130611Z
SUMMARY:Early Summer Native Plant Sale
DESCRIPTION:Celebrate summer by adding pollinator-friendly plants to y
 our garden. Our nursery is stocked with a wide selection of flowering 
 shrubs, vines, and perennials that provide important food for insect l
 arvae and pollinators throughout the summer. Staff and volunteers will
  be on hand to help you select appropriate plants for your garden.\nCo
 me back later in the day for the 50th Anniversary Picnic.\n\nFor more
  information visit http://phillytodo.com/events/early-summer-native-pl
 ant-sale-1
DTSTART:20150627T130000Z
DTEND:20150627T180000Z
CATEGORIES:plant, sale
LOCATION:Schuylkill Center for Environmental Education
WEBSITE:http://www.schuylkillcenter.org/blog/event/early-summer-native
 -plant-sale-2/
URL:http://www.schuylkillcenter.org/blog/event/early-summer-native-pla
 nt-sale-2/
CONTACT:215-482-7300, x110
ORGANIZER;CN="The Schuylkill Center":http://phillytodo.com/profile/Ann
 aLehrMueser
ATTACH;FMTTYPE="image/jpeg":
ATTENDEE;ROLE=REQ-PARTICIPANT;PARTSTAT=ACCEPTED;RSVP=TRUE;CN="The Schu
 ylkill Center":http://phillytodo.com/profile/AnnaLehrMueser
END:VEVENT
END:VCALENDAR
