BEGIN:VCALENDAR
PRODID:NingEventWidget-v1
VERSION:2.0
METHOD:PUBLISH
BEGIN:VEVENT
UID:4320450:Event:44958
DTSTAMP:20260425T125843Z
SUMMARY:Early Bird Al-Bustan Teen Program Registration
DESCRIPTION:Al-Bustan is pleased to partner with Germantown Friends Sc
 hool to offer a three-week intensive Arabic program for teenagers. The
  program includes speaking, reading, writing, and listening in Arabic,
  integrated with arts instruction in visual art/calligraphy, singing, 
 and drumming. The curriculum, utilizing a national standards-based Ara
 bic curriculum for high school students, will integrate arts instructi
 on with language learning and enable students to have a variety of exp
 eriences to deepen their engagement in the language and culture.Three-
 week program open to current 6th through 12th graders:July 11 – 29, 
 2016, 9am – 3pm, Monday – FridayTo register contact Al-Bustan:
  info@albustanseeds.org, 267-809-3668\nFor more info visit: http://
 www.albustanseeds.org/featured-story/summer-arabic-with-arts/\n\nFor m
 ore information visit http://phillytodo.com/events/early-bird-al-busta
 n-teen-program-registration
DTSTART:20160212T230000Z
DTEND:20160408T040000Z
CATEGORIES:teen, camp
LOCATION:Germantown Friends School
WEBSITE:http://www.albustanseeds.org/featured-story/summer-arabic-with
 -arts/
URL:http://www.albustanseeds.org/featured-story/summer-arabic-with-art
 s/
CONTACT:2678093668
ORGANIZER;CN="Al-Bustan Seeds of Culture":http://phillytodo.com/profil
 e/AlBustanSeedsofCulture
ATTACH;FMTTYPE="image/jpeg":http://storage.ning.com/topology/rest/1.0/
 file/get/3054990899?profile=original
ATTENDEE;ROLE=REQ-PARTICIPANT;PARTSTAT=ACCEPTED;RSVP=TRUE;CN="Al-Busta
 n Seeds of Culture":http://phillytodo.com/profile/AlBustanSeedsofCultu
 re
END:VEVENT
END:VCALENDAR
