BEGIN:VCALENDAR
PRODID:NingEventWidget-v1
VERSION:2.0
METHOD:PUBLISH
BEGIN:VEVENT
UID:4320450:Event:45160
DTSTAMP:20260425T142555Z
SUMMARY:Early Bird Al-Bustan Camp Registration
DESCRIPTION:Al-Bustan's 14th annual summer arts day camp is where chil
 dren learn about Arab arts and culture through percussion, singing, vi
 sual art, and nature lessons integrated with Arabic language. This yea
 r's nature/science theme is related to \"food and herbs growing in our
  garden\". Everyday is filled with indoor and outdoor activities where
  students develop new skills, make new friends, and explore nature aro
 und the garden, wooded hiking trails, and the creek. This year, camp 
 will be held at Cobbs Creek Community Environmental Education Center, 
 located in West Philadelphia. Camp is for ages K-5th Grade and will t
 ake place June 27-July 1Early bird registration ends April 8! Please 
 visit our website to register: http://www.albustanseeds.org/teaching/
 al-bustan-camp/registration/\n\nFor more information visit http://phil
 lytodo.com/events/early-bird-al-bustan-camp-registration
DTSTART:20160212T050000Z
DTEND:20160409T035900Z
CATEGORIES:camp, registration
LOCATION:Cobbs Creek Community Environmental Education Center
WEBSITE:https://www.google.com/maps/place/Cobbs+Creek+Community+Enviro
 nmental+Education+Center/@39.9520073,-75.2528551,17z/data=!4m7!1m4!3m3
 !1s0x89c6c1350a2c228f:0x7b173fb7f12fb736!2s700+Cobbs+Creek+Pkwy,+Phila
 delphia,+PA+19143!3b1!3m1!1s0x89c6c6a522b03f9b:0x4f665d04e4af8f2f
URL:https://www.google.com/maps/place/Cobbs+Creek+Community+Environmen
 tal+Education+Center/@39.9520073,-75.2528551,17z/data=!4m7!1m4!3m3!1s0
 x89c6c1350a2c228f:0x7b173fb7f12fb736!2s700+Cobbs+Creek+Pkwy,+Philadelp
 hia,+PA+19143!3b1!3m1!1s0x89c6c6a522b03f9b:0x4f665d04e4af8f2f
CONTACT:2678093668
ORGANIZER;CN="Al-Bustan Seeds of Culture":http://phillytodo.com/profil
 e/AlBustanSeedsofCulture
ATTACH;FMTTYPE="image/jpeg":http://storage.ning.com/topology/rest/1.0/
 file/get/3054991319?profile=original
ATTENDEE;ROLE=REQ-PARTICIPANT;PARTSTAT=ACCEPTED;RSVP=TRUE;CN="Al-Busta
 n Seeds of Culture":http://phillytodo.com/profile/AlBustanSeedsofCultu
 re
END:VEVENT
END:VCALENDAR
