BEGIN:VCALENDAR
PRODID:NingEventWidget-v1
VERSION:2.0
METHOD:PUBLISH
BEGIN:VEVENT
UID:4320450:Event:50511
DTSTAMP:20260425T124844Z
SUMMARY:Eagles Yappy Hour
DESCRIPTION:Eagles players and adoptable pets? Yes! The Morris Animal 
 Refuge is partnering with Philadelphia Eagles cornerback Ron Brooks, l
 inebacker Najee Goode and others to host a special Eagles Yappy Hour o
 n Friday June 16th from 3pm - 7pm. Not only will we have our usual Yap
 py Hour fare, but Brooks and other Eagles players will be signing auto
 graphs! The price of admission is $25 for individuals and $50 for fami
 lies (up to 6 people) and includes three drinks, food and a chance to 
 have an item signed by an Eagles player. Additional football memorabil
 ia will be sold with all the proceeds benefiting the Morris Animal Ref
 uge. Plus delicious food and drink donated by our sponsors Great Lakes
  Brewing Company, Devil's Den Philadelphia, and Krispy Kreme Philadelp
 hia.\nSee our Facebook event\n\nFor more information visit http://phi
 llytodo.com/events/eagles-yappy-hour
DTSTART:20170616T190000Z
DTEND:20170616T230000Z
CATEGORIES:football, "philadelphia eagles", "animal adoption", "happy 
 hour"
LOCATION:The Morris Animal Refuge
WEBSITE:https://www.facebook.com/events/440349929667275/
URL:https://www.facebook.com/events/440349929667275/
CONTACT:215-735-9570
ORGANIZER;CN="The Morris Animal Refuge":http://phillytodo.com/profile/
 TheMorrisAnimalRefuge
ATTACH;FMTTYPE="image/jpeg":http://storage.ning.com/topology/rest/1.0/
 file/get/3055003993?profile=original
ATTENDEE;ROLE=REQ-PARTICIPANT;PARTSTAT=ACCEPTED;RSVP=TRUE;CN="The Morr
 is Animal Refuge":http://phillytodo.com/profile/TheMorrisAnimalRefuge
END:VEVENT
END:VCALENDAR
