BEGIN:VCALENDAR
PRODID:NingEventWidget-v1
VERSION:2.0
METHOD:PUBLISH
BEGIN:VEVENT
UID:4320450:Event:38091
DTSTAMP:20260425T125755Z
SUMMARY:Eagles Watch Party and Fall Collection Launch
DESCRIPTION:Philly Phaithful and Broad Street Broad (737 N 4th Street)
  host a viewing party for the much-anticipated Eagles-Redskins game on
  Sunday, September 21, 2014 from 12-4 pm. This event is part of The Ph
 iladelphia Collection, a week-long fashion event highlighting some of 
 the best threads in town. We'll be showing the game on our 16-FT HD pr
 ojection screen and all in attendance for this free event will be able
  to enjoy complimentary beverages. You'll also be able to cop tees fro
 m our new fall line, a set of tees inspired by the annual return of fo
 otball to the city of Brotherly Love. Free event but RSVPs are require
 d. For questions, email info@phillyphaithful.com or call 1-888-4PHAITH
 .\n\n\nFor more information visit http://phillytodo.com/events/eagles-
 watch-party-and-fall-collection-launch
DTSTART:20140921T160000Z
DTEND:20140921T200000Z
CATEGORIES:football, and, fashion
LOCATION:Philly Phaithful
WEBSITE:http://www.phillyphaithful.com/EAGLES-VS-REDSKINS-VIEWING-PART
 Y-PHILADELPHIA-COLLECTION_p_350.html
URL:http://www.phillyphaithful.com/EAGLES-VS-REDSKINS-VIEWING-PARTY-PH
 ILADELPHIA-COLLECTION_p_350.html
CONTACT:215-840-5214
ORGANIZER;CN="Aversa PR & Events":http://phillytodo.com/profile/KoryAv
 ersa277
ATTACH;FMTTYPE="image/jpeg":http://storage.ning.com/topology/rest/1.0/
 file/get/3054980191?profile=original
ATTENDEE;ROLE=REQ-PARTICIPANT;PARTSTAT=ACCEPTED;RSVP=TRUE;CN="Aversa P
 R & Events":http://phillytodo.com/profile/KoryAversa277
END:VEVENT
END:VCALENDAR
