BEGIN:VCALENDAR
PRODID:NingEventWidget-v1
VERSION:2.0
METHOD:PUBLISH
BEGIN:VEVENT
UID:4320450:Event:34272
DTSTAMP:20260425T125849Z
SUMMARY:Eagles vs. Chiefs Outdoor Simulcast
DESCRIPTION:Watch the Eagles take on the Kansas City Chiefs, as Andy R
 eid returns to Philadelphia, at Street Fare: Sip, Savor, Stroll. The g
 ame will be projected on a large nine-foot screen on the side of a bui
 lding and will be visible from anywhere along the Avenue or lawn spots
 . While the rest of the family enjoys shopping and crafts at Street Fa
 re, catch all the action and enjoy eats and drinks from 45 food trucks
  and restaurants. For info, visit gomtairy.com, call 215-844-6021, fol
 low @gomtairy on Twitter and like “Go Mt. Airy” on Facebook.\n\nFo
 r more information visit http://phillytodo.com/events/eagles-vs-chiefs
 -outdoor-simulcast
DTSTART:20130920T001500Z
DTEND:20130920T030000Z
CATEGORIES:sporting, event, eagles, game, simulcast
LOCATION:Mt. Airy Street Fare
WEBSITE:https://www.facebook.com/events/550647834993384/
URL:https://www.facebook.com/events/550647834993384/
CONTACT:215-840-9216
ORGANIZER;CN="Aversa PR & Events":http://phillytodo.com/profile/KoryAv
 ersa277
ATTACH;FMTTYPE="image/jpeg":http://storage.ning.com/topology/rest/1.0/
 file/get/3054967463?profile=original
ATTENDEE;ROLE=REQ-PARTICIPANT;PARTSTAT=ACCEPTED;RSVP=TRUE;CN="Aversa P
 R & Events":http://phillytodo.com/profile/KoryAversa277
END:VEVENT
END:VCALENDAR
