BEGIN:VCALENDAR
PRODID:NingEventWidget-v1
VERSION:2.0
METHOD:PUBLISH
BEGIN:VEVENT
UID:4320450:Event:35599
DTSTAMP:20260425T142544Z
SUMMARY:Dynamite Series @ PHIT Presents: Study Hall
DESCRIPTION:Curated by our Artistic Director, this original PHIT serie
 s is an open creative space that showcases unique projects. These dive
 rse shows cover a wide variety of comedic disciplines, strengthen our 
 connections to other communities in Philadelphia, and demonstrate boun
 dary pushing comedy.The Dynamite Series @ PHIT...Connect. Ignite. Expl
 ode.This installment features Study Hall. Drexel University's Professo
 r Michael Yudell and some of Philly's best improvisers team-up up to c
 reate a full hour of spontaneous comedy inspired by brutally honest sc
 ience. Professor Yudell will exploit every ounce of his tenure to lect
 ure on a wide variety of topics and the \"students\" will warp each le
 cture into outrageous scenes on the spot! Don't be late to Study Hall!
 \n\nFor more information visit http://phillytodo.com/events/dynamite-s
 eries-phit-presents-study-hall
DTSTART:20140223T003000Z
DTEND:20140223T013000Z
CATEGORIES:show, performance
LOCATION:Philly Improv Theater
WEBSITE:http://www.phillyimprovtheater.com
URL:http://www.phillyimprovtheater.com
CONTACT:(267) 233-1556
ORGANIZER;CN="Philly Improv Theater":http://phillytodo.com/profile/Mik
 eMarbach
ATTACH;FMTTYPE="image/jpeg":http://storage.ning.com/topology/rest/1.0/
 file/get/3054968616?profile=original
ATTENDEE;ROLE=REQ-PARTICIPANT;PARTSTAT=ACCEPTED;RSVP=TRUE;CN="Philly I
 mprov Theater":http://phillytodo.com/profile/MikeMarbach
END:VEVENT
END:VCALENDAR
