BEGIN:VCALENDAR
PRODID:NingEventWidget-v1
VERSION:2.0
METHOD:PUBLISH
BEGIN:VEVENT
UID:4320450:Event:35917
DTSTAMP:20260425T124912Z
SUMMARY:Dynamite Series @ PHIT Presents: Study Hall
DESCRIPTION:Curated by our Artistic Director, this original PHIT serie
 s is an open creative space that showcases unique projects. These dive
 rse shows cover a wide variety of comedic disciplines, strengthen our 
 connections to other communities in Philadelphia, and demonstrate boun
 dary pushing comedy.The Dynamite Series @ PHIT...Connect. Ignite. Expl
 ode.This installment features Study Hall. Drexel University's Professo
 r Michael Yudell and some of Philly's best improvisers team-up up to c
 reate a full hour of spontaneous comedy inspired by brutally honest sc
 ience. Professor Yudell will exploit every ounce of his tenure to lect
 ure on a wide variety of topics and the \"students\" will warp each le
 cture into outrageous scenes on the spot! Don't be late to Study Hall!
 Study Hall features: David Donnella, Frank Farrell, AJ Horan, Jessica 
 Ross, Andrew Stanton, Becca Trabin, Aaron Unice, Caitlin Weigel, Corin
  Wells, Addie Weyrich and Professor Michael Yudell. Directed by Mike M
 arbach.\n\nFor more information visit http://phillytodo.com/events/dyn
 amite-series-phit-presents-study-hall-1
DTSTART:20140322T233000Z
DTEND:20140323T003000Z
CATEGORIES:comedy, improv, education, theater, live, performance
LOCATION:Philly Improv Theater (PHIT)
WEBSITE:http://www.phillyimprovtheater.com
URL:http://www.phillyimprovtheater.com
CONTACT:267-233-1556
ORGANIZER;CN="Philly Improv Theater":http://phillytodo.com/profile/Mik
 eMarbach
ATTACH;FMTTYPE="image/jpeg":http://storage.ning.com/topology/rest/1.0/
 file/get/3054973377?profile=original
ATTENDEE;ROLE=REQ-PARTICIPANT;PARTSTAT=ACCEPTED;RSVP=TRUE;CN="Philly I
 mprov Theater":http://phillytodo.com/profile/MikeMarbach
END:VEVENT
END:VCALENDAR
