BEGIN:VCALENDAR
PRODID:NingEventWidget-v1
VERSION:2.0
METHOD:PUBLISH
BEGIN:VEVENT
UID:4320450:Event:31890
DTSTAMP:20260425T173504Z
SUMMARY:DVBBS
DESCRIPTION:DVBBS\n \nOne Up Events, Philly2night, Art of Electronica
  are taking over G Lounge for an impressive night of live entertainmen
 t sponsored by Absolut!\n \nGet on the reduced admission guestlist at
  www.oneupevents.com\n \nEnjoy the sounds of DVBBS, an electro/house 
 duo from Toronto, Canada. Although new to the music industry, DVBBS ha
 ve already toured with the likes of Tiesto, Steve Aoki, MSTRKRFT, LMFA
 O, and Dragonette, Dev + Cataracs, Dirt Nasty and Sammy Adams.\n \nAl
 ex & Chris write and produce bangers that are sure to keep the party g
 oing. Their unique style allowed them to quickly build a loyal fanbase
 , which in turn allowed them to release their EP “Initio” in March
 , 2012.\n \nTickets or Door Cover = $15.00\n$10.00 if on the www.oneu
 pevents.com  guestlist\n \nAge: 21+\n \n \nDvbbs Soundcloud:\nhttp
 s://soundcloud.com/dvbbs\n \nDvbbs in Philly for the First Time\n \n
 Fri Apr 26, 10:00 pm – 2:00 am\n \nG Lounge\n111 S. 17th Street, Ph
 iladelphia, PA 19103\n\nFor more information visit http://phillytodo.c
 om/events/dvbbs
DTSTART:20130427T020000Z
DTEND:20130427T060000Z
CATEGORIES:party
LOCATION:Philadelphia
WEBSITE:https://soundcloud.com/dvbbs
URL:https://soundcloud.com/dvbbs
CONTACT:
ORGANIZER;CN="One Up Events":http://phillytodo.com/profile/OneUpEvents
ATTACH;FMTTYPE="image/jpeg":http://storage.ning.com/topology/rest/1.0/
 file/get/3054965764?profile=original
ATTENDEE;ROLE=REQ-PARTICIPANT;PARTSTAT=ACCEPTED;RSVP=TRUE;CN="One Up E
 vents":http://phillytodo.com/profile/OneUpEvents
END:VEVENT
END:VCALENDAR
