BEGIN:VCALENDAR
PRODID:NingEventWidget-v1
VERSION:2.0
METHOD:PUBLISH
BEGIN:VEVENT
UID:4320450:Event:19908
DTSTAMP:20260425T142547Z
SUMMARY:\"Duets\" - Opera Cabaret
DESCRIPTION:CCOT presents an opera cabaret concert at the Prince Music
  Theater. The concert will feature famous duets, quartets, and sextets
  from the world of opera, featuring music from Puccini, Verdi, Mozart,
  Bizet, Delibes, Offenbach, and more.\n\nFor more information visit ht
 tp://phillytodo.com/events/duets-opera-cabaret
DTSTART:20111113T010000Z
DTEND:20111113T030000Z
CATEGORIES:opera
LOCATION:Prince Music Theater
WEBSITE:http://www.centercityoperatheater.org/wp2/
URL:http://www.centercityoperatheater.org/wp2/
CONTACT:610-547-3476
ORGANIZER:Eric Brower
ATTACH;FMTTYPE="image/jpeg":http://storage.ning.com/topology/rest/1.0/
 file/get/3054954942?profile=original
ATTENDEE;ROLE=REQ-PARTICIPANT;PARTSTAT=ACCEPTED;RSVP=TRUE;CN=Eric:http
 ://phillytodo.com/profile/Eric
END:VEVENT
END:VCALENDAR
