BEGIN:VCALENDAR
PRODID:NingEventWidget-v1
VERSION:2.0
METHOD:PUBLISH
BEGIN:VEVENT
UID:4320450:Event:37317
DTSTAMP:20260425T150055Z
SUMMARY:Drum Corps: An American Tradition
DESCRIPTION:On July 6 at 6 p.m., magnificent PPL Park in Chester, Pa. 
 will host the return of a tradition, as DCI and DCA corps perform on t
 he same field on the same day in celebration of Independence Day weeke
 nd and the drum corps activity.\n\nFor more information visit http://p
 hillytodo.com/events/drum-corps-an-american-tradition
DTSTART:20140706T220000Z
DTEND:20140707T020000Z
CATEGORIES:music
LOCATION:PPL Park
WEBSITE:http://www.philadelphiaunion.com/ppl-park/drum-corps-2014
URL:http://www.philadelphiaunion.com/ppl-park/drum-corps-2014
CONTACT:610-859-3105
ORGANIZER;CN="PPL Park":http://phillytodo.com/profile/PPLPark
ATTACH;FMTTYPE="image/jpeg":http://storage.ning.com/topology/rest/1.0/
 file/get/3054978818?profile=original
ATTENDEE;ROLE=REQ-PARTICIPANT;PARTSTAT=ACCEPTED;RSVP=TRUE;CN="PPL Park
 ":http://phillytodo.com/profile/PPLPark
END:VEVENT
END:VCALENDAR
