BEGIN:VCALENDAR
PRODID:NingEventWidget-v1
VERSION:2.0
METHOD:PUBLISH
BEGIN:VEVENT
UID:4320450:Event:34007
DTSTAMP:20260425T143439Z
SUMMARY:\"Drop Dead Sexy\" Performs on Concert Stage
DESCRIPTION:Start your weekend off right as \"Drop Dead Sexy\" perform
 s live on the outdoor concert stage.Contact parties@xfinitylive.com 
 to add your name to the guest list and to book your VIP Party for the 
 show.Free parking is available after 8:05PM.\n\nFor more information v
 isit http://phillytodo.com/events/drop-dead-sexy-performs-on-concert-s
 tage
DTSTART:20130817T000000Z
DTEND:20130817T040000Z
CATEGORIES:live, music
LOCATION:XFINITY Live! Philadelphia
WEBSITE:http://xfinitylive.com
URL:http://xfinitylive.com
CONTACT:215-609-1678
ORGANIZER;CN="Stepfanie McCaffrey":http://phillytodo.com/profile/Stepf
 anieMcCaffrey
ATTACH;FMTTYPE="image/jpeg":http://storage.ning.com/topology/rest/1.0/
 file/get/3054966289?profile=original
ATTENDEE;ROLE=REQ-PARTICIPANT;PARTSTAT=ACCEPTED;RSVP=TRUE;CN="Stepfani
 e McCaffrey":http://phillytodo.com/profile/StepfanieMcCaffrey
END:VEVENT
END:VCALENDAR
