BEGIN:VCALENDAR
PRODID:NingEventWidget-v1
VERSION:2.0
METHOD:PUBLISH
BEGIN:VEVENT
UID:4320450:Event:34457
DTSTAMP:20260425T173513Z
SUMMARY:Dress to a Tea
DESCRIPTION:Have you been swamped at work, kids driving you crazy, in 
 need of a little me time? Fashion week is the perfect time to enjoy de
 signer looks while being treated like royalty, well at least that’s 
 how the people at Sofitel Philadelphia feel.Sofitel’s Liberte Lounge
  is giving every one the chance to channel their inner Kate Middleton
  with a Fashion themed afternoon tea. Enjoy a delicious menu of pastri
 es and complimentary Bellini while viewing fall fashion from top Phila
 delphia designers, Irina Sigal and SA VA. \n\nFor more information v
 isit http://phillytodo.com/events/dress-to-a-tea
DTSTART:20130919T180000Z
DTEND:20130921T200000Z
CATEGORIES:fashion
LOCATION:Liberte Lounge at the Sofitel Philadelphia
WEBSITE:
URL:
CONTACT:
ORGANIZER;CN=CashmanAssoc:http://phillytodo.com/profile/CashmanAssoc
ATTACH;FMTTYPE="image/jpeg":
ATTENDEE;ROLE=REQ-PARTICIPANT;PARTSTAT=ACCEPTED;RSVP=TRUE;CN=CashmanAs
 soc:http://phillytodo.com/profile/CashmanAssoc
END:VEVENT
END:VCALENDAR
