BEGIN:VCALENDAR
PRODID:NingEventWidget-v1
VERSION:2.0
METHOD:PUBLISH
BEGIN:VEVENT
UID:4320450:Event:2549
DTSTAMP:20260425T183535Z
SUMMARY:Drawing Workshop: Home That Was
DESCRIPTION:This summer, Benjamin Volta worked with a team of intergen
 erational artists to create 12 wallpaper patterns that explore consump
 tion, memory, and loss as part of a temporary artwork. Join us for a p
 re-dedication Drawing Workshop from 12-2 p.m. to draw ideas of \"home\
 " on large cardboard panels, which will be assembled to build a 15-foo
 t high sculpture. Sponsored by the City of Philadelphia.\n\nA DesignPh
 iladelphia event www.designphiladelphia.org.\n\nFor more information v
 isit http://phillytodo.com/events/drawing-workshop-home-that-was
DTSTART:20101016T160000Z
DTEND:20101016T180000Z
CATEGORIES:drawing, workshop
LOCATION:10th & Vine Streets
WEBSITE:
URL:
CONTACT:
ORGANIZER;CN="Jenn McCreary":http://phillytodo.com/profile/JennMcCrear
 y
ATTACH;FMTTYPE="image/jpeg":
ATTENDEE;ROLE=REQ-PARTICIPANT;PARTSTAT=ACCEPTED;RSVP=TRUE;CN="Jenn McC
 reary":http://phillytodo.com/profile/JennMcCreary
END:VEVENT
END:VCALENDAR
