BEGIN:VCALENDAR
PRODID:NingEventWidget-v1
VERSION:2.0
METHOD:PUBLISH
BEGIN:VEVENT
UID:4320450:Event:56120
DTSTAMP:20260425T125853Z
SUMMARY:Draken 2018 East coast Tour
DESCRIPTION:Take advantage of this once in a lifetime opportunity to s
 tep foot on a modern-day Viking ship. Built in 2010, the Draken is the
  largest Viking ship built in modern times and was hand-crafted using 
 archaeological knowledge of found ships, old boatbuilding traditions, 
 and the legends of Viking ships from the Norse sagas. The Draken is on
 ce again making the journey across the high seas from Norway to North 
 America and will be docked in Philadelphia for a limited time. Guests 
 will be welcomed aboard by the crew of modern-day Vikings to learn abo
 ut the ship and how to the “Viking-Spirit” lives on. Guests can al
 so purchase tickets to hear a lecture from the captain or attend a scr
 eening of the new Draken documentary.\n\nFor more information visit ht
 tp://phillytodo.com/events/draken-2018-east-coast-tour
DTSTART:20180831T040000Z
DTEND:20180907T035900Z
CATEGORIES:festival
LOCATION:Penn's Landing
WEBSITE:https://www.drakenhh.com/stopovers/
URL:https://www.drakenhh.com/stopovers/
CONTACT:
ORGANIZER;CN="Bryan Chan":http://phillytodo.com/profile/BryanChan
ATTACH;FMTTYPE="image/jpeg":http://storage.ning.com/topology/rest/1.0/
 file/get/3055015569?profile=original
ATTENDEE;ROLE=REQ-PARTICIPANT;PARTSTAT=ACCEPTED;RSVP=TRUE;CN="Bryan Ch
 an":http://phillytodo.com/profile/BryanChan
END:VEVENT
END:VCALENDAR
