BEGIN:VCALENDAR
PRODID:NingEventWidget-v1
VERSION:2.0
METHOD:PUBLISH
BEGIN:VEVENT
UID:4320450:Event:49697
DTSTAMP:20260425T124911Z
SUMMARY:Draft Tailgate with Quincy Harris
DESCRIPTION:Kick off NFL Draft week with Quincy Harris of Fox 29’s
  The Q Show at the Market & Shops at Comcast Center’s ‘Draft’ 
 Party on Tuesday, April 25th from 5-7pm. Guests will be invited to tas
 te test local draft brews and cocktails from Penn Beer (the official
  beer sponsor of the NFL Draft) and sample classic game day foods whil
 e enjoying favorite tailgate games such a corn hole, ladder toss and m
 ore.  Attendees will test their knowledge with football themed raffle
  prizes from partners like Mitchell & Ness and more.\n \nAttendees 
 must RSVP and be 21+\nhttps://marketandshops.ticketleap.com/draft-tail
 gate/\n\nFor more information visit http://phillytodo.com/events/draft
 -tailgate-with-quincy-harris
DTSTART:20170425T210000Z
DTEND:20170425T230000Z
CATEGORIES:nfl, draft, tailgate
LOCATION:The Market and Shops at Comcast Center
WEBSITE:https://www.facebook.com/events/1953009098318876/
URL:https://www.facebook.com/events/1953009098318876/
CONTACT:215-496-1810
ORGANIZER;CN=CashmanAssoc:http://phillytodo.com/profile/CashmanAssoc
ATTACH;FMTTYPE="image/jpeg":
ATTENDEE;ROLE=REQ-PARTICIPANT;PARTSTAT=ACCEPTED;RSVP=TRUE;CN=CashmanAs
 soc:http://phillytodo.com/profile/CashmanAssoc
END:VEVENT
END:VCALENDAR
