BEGIN:VCALENDAR
PRODID:NingEventWidget-v1
VERSION:2.0
METHOD:PUBLISH
BEGIN:VEVENT
UID:4320450:Event:49724
DTSTAMP:20260425T112444Z
SUMMARY:Draft at the Draft Yappy Hour
DESCRIPTION:Celebrate pet adoption and the NFL Draft with the Morris A
 nimal Refuge’s Draft at the Draft Yappy Hour on Tuesday, April 25th 
 from 5pm-8pm. There will be delicious food and drink courtesy of Great
  Lakes Brewing, Devil’s Den, and Krispy Kreme, with a $20 admission 
 donation to support the Refuge. Plus: special guest Petplan will be th
 ere to present the Refuge with $5,000 in winnings from the Tournament 
 of Tails. In this March Madness-inspired online contest, special-needs
  Refuge cat Igor beat out 31 other competing animal shelters to win th
 e championship for Philly, thanks to our amazing supporters! Buy ticke
 ts online now: https://www.eventbrite.com/e/morris-yappy-hour-tickets-
 33826659449\n\nFor more information visit http://phillytodo.com/events
 /draft-at-the-draft-yappy-hour
DTSTART:20170425T210000Z
DTEND:20170426T000000Z
CATEGORIES:fundraiser, animal, shelter, happy, hour
LOCATION:The Morris Animal Refuge
WEBSITE:https://www.facebook.com/events/674379356101035/
URL:https://www.facebook.com/events/674379356101035/
CONTACT:215-735-9570
ORGANIZER;CN="The Morris Animal Refuge":http://phillytodo.com/profile/
 TheMorrisAnimalRefuge
ATTACH;FMTTYPE="image/jpeg":http://storage.ning.com/topology/rest/1.0/
 file/get/3055003842?profile=original
ATTENDEE;ROLE=REQ-PARTICIPANT;PARTSTAT=ACCEPTED;RSVP=TRUE;CN="The Morr
 is Animal Refuge":http://phillytodo.com/profile/TheMorrisAnimalRefuge
END:VEVENT
END:VCALENDAR
