BEGIN:VCALENDAR
PRODID:NingEventWidget-v1
VERSION:2.0
METHOD:PUBLISH
BEGIN:VEVENT
UID:4320450:Event:38653
DTSTAMP:20260425T124850Z
SUMMARY:Dracula's Graveyard
DESCRIPTION:Halloween 2014 in Philadelphia! \n \nJoin us as we trans
 form enclose the bar area of North Shore Beach Club and turn it in to 
 a graveyard! Featuring two awesome venues for one party, including mul
 tiple bars & beer garden. This event is FREE (General Admission ticket
 s - must get an advance ticket) or you can upgrade to VIP open bar or 
 VIP Open Bar with Reserved Seating or even VVIP bottle service.\n \nT
 ickets Include light buffet, Costume Contest with cash & prizes, multi
 ple DJs!  Multiple Ticket Options: General Admission (with First drin
 k free) and VIP 2-HOUR Open Bar, Reserved Seating and Bottle Service\n
  \nTickets & More Info: http://www.upcomingevents.com/philadelphia/dr
 aculas-graveyard-halloween-party/ptodo/\n\nFor more information visit 
 http://phillytodo.com/events/dracula-s-graveyard
DTSTART:20141102T000000Z
DTEND:20141102T070000Z
CATEGORIES:halloween, open, bar
LOCATION:Kings Oak
WEBSITE:http://www.upcomingevents.com/philadelphia/draculas-graveyard-
 halloween-party/ptodo/
URL:http://www.upcomingevents.com/philadelphia/draculas-graveyard-hall
 oween-party/ptodo/
CONTACT:7327796884
ORGANIZER;CN="UpcomingEvents.com":http://phillytodo.com/profile/Upcomi
 ngEventscom
ATTACH;FMTTYPE="image/jpeg":http://storage.ning.com/topology/rest/1.0/
 file/get/3054980401?profile=original
ATTENDEE;ROLE=REQ-PARTICIPANT;PARTSTAT=ACCEPTED;RSVP=TRUE;CN="Upcoming
 Events.com":http://phillytodo.com/profile/UpcomingEventscom
END:VEVENT
END:VCALENDAR
