BEGIN:VCALENDAR
PRODID:NingEventWidget-v1
VERSION:2.0
METHOD:PUBLISH
BEGIN:VEVENT
UID:4320450:Event:45901
DTSTAMP:20260425T131116Z
SUMMARY:Dr. John and the Nite Trippers at Valley Forge Casino Resort M
 usic Fair
DESCRIPTION:\nValley Forge Casino Resort Music Fair at Valley Forge Ca
 sino Resort (1160 First Avenue) presents the six-time Grammy Award-win
 ning musician, Dr John and his band, The Nite Trippers, on Friday, Jun
 e 3, 2016. Don’t miss the chance to see this true American icon perf
 orm pieces from his colorful musical career including the hit song “
 Right Place Wrong Time”. Doors will open at 7:00pm, with the show st
 arting at 8:00pm. Tickets are on sale now at Ticketmaster for $55.00 t
 o $110.00 each\n \n\nFor more information visit http://phillytodo.com
 /events/dr-john-and-the-nite-trippers-at-valley-forge-casino-resort-mu
 sic
DTSTART:20160604T000000Z
DTEND:20160604T020000Z
CATEGORIES:concert
LOCATION:Valley Forge Casino Resort
WEBSITE:https://www.vfcasino.com/events/dr-john/
URL:https://www.vfcasino.com/events/dr-john/
CONTACT:2158409216
ORGANIZER;CN="Aversa PR & Events":http://phillytodo.com/profile/KoryAv
 ersa277
ATTACH;FMTTYPE="image/jpeg":
ATTENDEE;ROLE=REQ-PARTICIPANT;PARTSTAT=ACCEPTED;RSVP=TRUE;CN="Aversa P
 R & Events":http://phillytodo.com/profile/KoryAversa277
END:VEVENT
END:VCALENDAR
