BEGIN:VCALENDAR
PRODID:NingEventWidget-v1
VERSION:2.0
METHOD:PUBLISH
BEGIN:VEVENT
UID:4320450:Event:39636
DTSTAMP:20260425T124843Z
SUMMARY:Doo Wop Event
DESCRIPTION:Take a step back in time to the era of Doo Wop with Franki
 e & The Fashions, Emeralds, Junior & The Seniors and The Belairs with 
 Steve Kurtz as our Emcee & DJ.\n \nAll of the money raise will be don
 ated to the Babe Heffron Memorial Fund (BHMF). The BHMF was created to
  preserve the memory of our South Philly friend who was a member of \"
 Easy\" Company, 2nd Battalion of the 506th Parachute Infantry Regiment
  of the \"Screaming Eagles\" 101st Airborne Division during WWII.\n \
 nAll of the money raise will be donated to the Babe Heffron Memorial F
 und. In order to keep Babe’s memory alive, and to show young Philade
 lphians all that they can do when they set their minds to it, we have 
 begun working with the community to build a statue of Babe to be place
 d in the neighborhood that he called home.\n\nFor more information vis
 it http://phillytodo.com/events/doo-wop-event
DTSTART:20150215T190000Z
DTEND:20150215T230000Z
CATEGORIES:doo, wop, fundraiser
LOCATION:McFadden's at the Ballpark
WEBSITE:https://www.facebook.com/events/1521536314737851/
URL:https://www.facebook.com/events/1521536314737851/
CONTACT:
ORGANIZER:Babe Heffron Memorial Fund
ATTACH;FMTTYPE="image/jpeg":http://storage.ning.com/topology/rest/1.0/
 file/get/3054985447?profile=original
ATTENDEE;ROLE=REQ-PARTICIPANT;PARTSTAT=ACCEPTED;RSVP=TRUE;CN="Allie Pf
 ender":http://phillytodo.com/profile/AlliePfender
END:VEVENT
END:VCALENDAR
