BEGIN:VCALENDAR
PRODID:NingEventWidget-v1
VERSION:2.0
METHOD:PUBLISH
BEGIN:VEVENT
UID:4320450:Event:2011
DTSTAMP:20260425T142830Z
SUMMARY:Don’t miss out on Ron Jaworski’s BRIDAL AND FASHION SHOW a
 t VALLEYBROOK Country Club!!!*
DESCRIPTION:On Thursday, September 23rd at 7 p.m., come to VALLEYBROOK
  Country club to check out the BRIDAL AND FASHION SHOW presented by El
 egant Bridal Production. There will be over 20 wedding vendors, a wedd
 ing entertainment showcase, a wedding gown and tuxedo fashion show plu
 s more!!! There is NO ENTRY FEE, so call for your reservations TODAY!!
 !!\n\nFor more information visit http://phillytodo.com/events/dont-mis
 s-out-on-ron-jaworskis
DTSTART:20100923T230000Z
DTEND:20100924T020000Z
CATEGORIES:bridal, and, fashion, show
LOCATION:Valleybrook Country Club
WEBSITE:http://valleybrookgolf.com/
URL:http://valleybrookgolf.com/
CONTACT:
ORGANIZER;CN="Valerie Bunsick":http://phillytodo.com/profile/ValerieBu
 nsick
ATTACH;FMTTYPE="image/jpeg":http://storage.ning.com/topology/rest/1.0/
 file/get/3054950346?profile=original
ATTENDEE;ROLE=REQ-PARTICIPANT;PARTSTAT=ACCEPTED;RSVP=TRUE;CN="Valerie 
 Bunsick":http://phillytodo.com/profile/ValerieBunsick
END:VEVENT
END:VCALENDAR
