BEGIN:VCALENDAR
PRODID:NingEventWidget-v1
VERSION:2.0
METHOD:PUBLISH
BEGIN:VEVENT
UID:4320450:Event:41248
DTSTAMP:20260425T172227Z
SUMMARY:Don Rickles at Valley Forge Music Fair
DESCRIPTION:Comic legend Don Rickles will perform at Valley Forge Casi
 no Resort (1160 First Avenue) on Saturday, August 8, 2015, at 8:00pm (
 doors open 7:00pm) during Valley Forge Music Fair. Affectionately nick
 named “Mr. Warmth,” Don Rickles has appeared on television, in fil
 m and on stage for the past 55 years. Tickets are on sale for $69 - $1
 25 on Ticketmaster. Don’t miss comedy’s most famous funnymen.\n\nF
 or more information visit http://phillytodo.com/events/don-rickles-at-
 valley-forge-music-fair
DTSTART:20150809T000000Z
DTEND:20150809T030000Z
CATEGORIES:comedy, show
LOCATION:Valley Forge Casino Resort
WEBSITE:https://vfcasino.com/events/don-rickles
URL:https://vfcasino.com/events/don-rickles
CONTACT:610-354-8118
ORGANIZER;CN="Aversa PR & Events":http://phillytodo.com/profile/KoryAv
 ersa277
ATTACH;FMTTYPE="image/jpeg":http://storage.ning.com/topology/rest/1.0/
 file/get/3054988956?profile=original
ATTENDEE;ROLE=REQ-PARTICIPANT;PARTSTAT=ACCEPTED;RSVP=TRUE;CN="Aversa P
 R & Events":http://phillytodo.com/profile/KoryAversa277
END:VEVENT
END:VCALENDAR
