BEGIN:VCALENDAR
PRODID:NingEventWidget-v1
VERSION:2.0
METHOD:PUBLISH
BEGIN:VEVENT
UID:4320450:Event:36990
DTSTAMP:20260425T175216Z
SUMMARY:\"Dog Daze O' Summer\" Bikini Contest
DESCRIPTION:BEACH PARTY SUNDAYS with music by DJ DSC, starting at 9pm!
 \n\nEVERY SUNDAY from May 25th - August 31st\nAdelphia's Bar and Night
 club will host Metrospect Events Dog Daze O' Summer Bikini Contest at 
 11pm\n\nBIKINI CONTEST BEGINS AT 11PM.\n**** Contestants should be pre
 pared to arrive by 10pm in order to register and have time to change. 
  Contestants should bring (1) black bathing suit and (1) bathing suit
  of their choice.\n\nEvery week ladies will strut their stuff for judg
 es and the winner each week will receive $250 IN CASH AND PRIZES from 
 Skin Palette and Salon Christopher along with advancement to the final
  round to win cash, prizes & a professional photo shoot for the 2015 H
 AIR O' THE DOG billboard Campaign.\n\nIf you are interested in competi
 ng, you must register in advance and be at least 21+. Please Contact u
 s at contact@metrospectevents.com with contact information and a full 
 body photograph if interested in competing.  \n\nFor more information
  visit http://phillytodo.com/events/dog-daze-o-summer-bikini-contest
DTSTART:20140616T010000Z
DTEND:20140616T060000Z
CATEGORIES:contest
LOCATION:http://www.adelphiarestaurant.com/
WEBSITE:http://www.adelphia
URL:http://www.adelphia
CONTACT:267-463-4347
ORGANIZER;CN="Metrospect Events":http://phillytodo.com/profile/Metrosp
 ectEvents
ATTACH;FMTTYPE="image/jpeg":http://storage.ning.com/topology/rest/1.0/
 file/get/3054979937?profile=original
ATTENDEE;ROLE=REQ-PARTICIPANT;PARTSTAT=ACCEPTED;RSVP=TRUE;CN="Metrospe
 ct Events":http://phillytodo.com/profile/MetrospectEvents
END:VEVENT
END:VCALENDAR
