BEGIN:VCALENDAR
PRODID:NingEventWidget-v1
VERSION:2.0
METHOD:PUBLISH
BEGIN:VEVENT
UID:4320450:Event:170739
DTSTAMP:20260425T112747Z
SUMMARY:Dog Day of Summer
DESCRIPTION:The Manayunk Development Corporation is pleased to announc
 e the return of our pet event, Dog Day of Summer! The Dog Day of Summe
 r pop-up is a celebration of Manayunk's growing canine community. The 
 pop-up will consist of pet-friendly vendors, pet adoptions, and pet-fr
 iendly activities.\n\nFor more information visit http://phillytodo.com
 /events/dog-day-of-summer-2
DTSTART:20220820T150000Z
DTEND:20220820T200000Z
CATEGORIES:special, event
LOCATION:Main Street Manayunk
WEBSITE:https://manayunk.com/events/dog-day-of-summer.html
URL:https://manayunk.com/events/dog-day-of-summer.html
CONTACT:215-482-9565
ORGANIZER;CN="Manayunk Development Corporation":http://phillytodo.com/
 profile/ManayunkDevelopmentCorporation
ATTACH;FMTTYPE="image/jpeg":https://storage.ning.com/topology/rest/1.0
 /file/get/10661895892?profile=original
ATTENDEE;ROLE=REQ-PARTICIPANT;PARTSTAT=ACCEPTED;RSVP=TRUE;CN="Manayunk
  Development Corporation":http://phillytodo.com/profile/ManayunkDevelo
 pmentCorporation
END:VEVENT
END:VCALENDAR
