BEGIN:VCALENDAR
PRODID:NingEventWidget-v1
VERSION:2.0
METHOD:PUBLISH
BEGIN:VEVENT
UID:4320450:Event:58420
DTSTAMP:20260425T130622Z
SUMMARY:Dog Day of Summer
DESCRIPTION:This one has gone to the dogs! Celebrate our four-legged f
 riends this August with a day full of pet-friendly vendors, activities
 , pet adoptions, food vendors, and more to the Venice Island Amphithea
 ter (7 Lock Street). Don't have a dog? Don't fret! This is a family-fr
 iendly event for four and two-legged guests!\n\nFor more information v
 isit http://phillytodo.com/events/dog-day-of-summer-1
DTSTART:20190824T150000Z
DTEND:20190824T200000Z
CATEGORIES:community, festival
LOCATION:Levering Lot
WEBSITE:http://manayunk.com/events/dog-day-of-summer.html
URL:http://manayunk.com/events/dog-day-of-summer.html
CONTACT:
ORGANIZER;CN="Manayunk Development Corporation":http://phillytodo.com/
 profile/ManayunkDevelopmentCorporation
ATTACH;FMTTYPE="image/jpeg":https://storage.ning.com/topology/rest/1.0
 /file/get/2899400153?profile=original
ATTENDEE;ROLE=REQ-PARTICIPANT;PARTSTAT=ACCEPTED;RSVP=TRUE;CN="Manayunk
  Development Corporation":http://phillytodo.com/profile/ManayunkDevelo
 pmentCorporation
END:VEVENT
END:VCALENDAR
