BEGIN:VCALENDAR
PRODID:NingEventWidget-v1
VERSION:2.0
METHOD:PUBLISH
BEGIN:VEVENT
UID:4320450:Event:46833
DTSTAMP:20260425T143004Z
SUMMARY:DNC Watch Party at The Piazza at Schmidt’s Commons
DESCRIPTION:The Piazza at Schmidt’s Commons (1001 N 2nd St) will hos
 t an outdoor DNC watch on Thursday, July 28th at 7:00pm. Watch the con
 vention's grand finale on the high-definition, 400+ square-foot Dakton
 iks LED screen above the 800 square foot stage. Bring your own chair/b
 lanket. Enjoy food and drink outside from Crabby’s Café, Gunners Ru
 n and Wahlburgers Food Truck. This event is free and open to the publi
 c. For information, call 267-246-0618 or visit www.theschmidtscommons.
 com.\n\nFor more information visit http://phillytodo.com/events/dnc-wa
 tch-party-at-the-piazza-at-schmidt-s-commons
DTSTART:20160728T230000Z
DTEND:20160729T030000Z
CATEGORIES:dnc, watch, party
LOCATION:The Piazza at Schmidt’s Commons
WEBSITE:http://theschmidtscommons.com/
URL:http://theschmidtscommons.com/
CONTACT:267-246-0618
ORGANIZER:Krystal Souvanlasy
ATTACH;FMTTYPE="image/jpeg":http://storage.ning.com/topology/rest/1.0/
 file/get/3054996014?profile=original
ATTENDEE;ROLE=REQ-PARTICIPANT;PARTSTAT=ACCEPTED;RSVP=TRUE;CN="Aversa P
 R & Events":http://phillytodo.com/profile/KoryAversa277
END:VEVENT
END:VCALENDAR
