BEGIN:VCALENDAR
PRODID:NingEventWidget-v1
VERSION:2.0
METHOD:PUBLISH
BEGIN:VEVENT
UID:4320450:Event:3917
DTSTAMP:20260425T124909Z
SUMMARY:Divorced, Single, and Looking to Mingle?
DESCRIPTION:Dating after divorce can be a little scary, especially if 
 you've been 'off the market' for a while. Come out and join us at D'An
 gelo's for a fun night in a relaxed comfortable setting and enjoy your
  first drink on us while you mix and mingle with area divorced singles
 . We'll have a fun icebreaker to get things started and some light foo
 d to enjoy.  Bring a friend or come alone, either way, see you there!
   Full Details:  http://divorcedsinglesevent.eventbrite.com  Spon
 sored by:  True North Matchmaking Service.\n\nFor more information vi
 sit http://phillytodo.com/events/divorced-single-and-looking-to
DTSTART:20110113T233000Z
DTEND:20110114T020000Z
CATEGORIES:divorced, singles
LOCATION:D'Angelo's Ristorante Italiano
WEBSITE:http://divorcedsinglesevent-ptodo.eventbrite.com
URL:http://divorcedsinglesevent-ptodo.eventbrite.com
CONTACT:
ORGANIZER;CN="UpcomingEvents.com":http://phillytodo.com/profile/Upcomi
 ngEventscom
ATTACH;FMTTYPE="image/jpeg":http://storage.ning.com/topology/rest/1.0/
 file/get/3054953779?profile=original
ATTENDEE;ROLE=REQ-PARTICIPANT;PARTSTAT=ACCEPTED;RSVP=TRUE;CN="Upcoming
 Events.com":http://phillytodo.com/profile/UpcomingEventscom
END:VEVENT
END:VCALENDAR
