BEGIN:VCALENDAR
PRODID:NingEventWidget-v1
VERSION:2.0
METHOD:PUBLISH
BEGIN:VEVENT
UID:4320450:Event:41724
DTSTAMP:20260425T130559Z
SUMMARY:Divine Dining: A Meal fit for a Pope
DESCRIPTION:Come together in fellowship while you cook and enjoy a thr
 ee-course meal fit for a Pope during The World Meeting of Families in 
 Philadelphia. This hands-on cooking event takes place in a fully-equip
 ped commercial kitchen right in downtown Philly. You’ll learn handy 
 cooking tips, the miraculous history behind each dish, and fascinating
  fun facts about the personal food favorites of Popes, past and presen
 t.Our heavenly menu includes:A delightful appetizer enjoyed by Pope Pa
 ul II back in the 1400’s (an oldie, but a goodie!)St. Peter’s Fish
 , honoring the very first Pope, served with a red wine risotto (popula
 r with the Swiss Guard)A decadent cherry dessert enjoyed by Pope Bened
 ict XVI.This truly special event is also one you can feel really good 
 about. Extra meals will be packaged for Aid For Friends, a local minis
 try that provides meals for homebound elderly. Also, included in the p
 urchase of your ticket, is a donation to MANNA, which feeds people wit
 h acute illness.\n\nFor more information visit http://phillytodo.com/e
 vents/divine-dining-a-meal-fit-for-a-pope
DTSTART:20150924T220000Z
DTEND:20150925T003000Z
CATEGORIES:special, event, pope
LOCATION:MANNA
WEBSITE:http://www.cityfoodtours.com/philadelphia/cooking_classes.html
URL:http://www.cityfoodtours.com/philadelphia/cooking_classes.html
CONTACT:2155461234
ORGANIZER;CN="Robert Weinberg":http://phillytodo.com/profile/RobertWei
 nberg
ATTACH;FMTTYPE="image/jpeg":http://storage.ning.com/topology/rest/1.0/
 file/get/3054990931?profile=original
ATTENDEE;ROLE=REQ-PARTICIPANT;PARTSTAT=ACCEPTED;RSVP=TRUE;CN="Robert W
 einberg":http://phillytodo.com/profile/RobertWeinberg
END:VEVENT
END:VCALENDAR
