BEGIN:VCALENDAR
PRODID:NingEventWidget-v1
VERSION:2.0
METHOD:PUBLISH
BEGIN:VEVENT
UID:4320450:Event:1074
DTSTAMP:20260425T112435Z
SUMMARY:Divine Diamond Group Healing
DESCRIPTION:Facilitated by Aniruddhan, Divine Diamond Healing is a pow
 erful form of energy healing that releases, clears, rejuvenates and ma
 nifests peace with cleansing light.\n\nThe Divine Diamond Healing allo
 ws our consciousness to be elevated to levels that are achieved throug
 h deep states of meditation. It is from the inner silence within that 
 the manifestation of physical and energetic transformation is possible
 . In this group healing, experience for yourself the field of the Divi
 ne Diamond which creates a direct bridge to our Divine Hearts.\n\nPlea
 s bring a mat, blanket and pillow to be comfortable. Suggested donatio
 n $25\n\nFor more information: www.DivineDiamondHealing.com\n\nhttp://
 www.youtube.com/watch?v=w9kJ-CQhX7I\n\nFor more information visit http
 ://phillytodo.com/events/divine-diamond-group-healing
DTSTART:20100219T000000Z
DTEND:20100219T020000Z
CATEGORIES:energy, healing
LOCATION:Gloria Dei/Old Swedes Church - Assembly Hall
WEBSITE:
URL:
CONTACT:215-356-9365
ORGANIZER;CN="Bette Hanson":http://phillytodo.com/profile/BetteHanson
ATTACH;FMTTYPE="image/jpeg":http://storage.ning.com/topology/rest/1.0/
 file/get/3054946106?profile=original
ATTENDEE;ROLE=REQ-PARTICIPANT;PARTSTAT=ACCEPTED;RSVP=TRUE;CN="Bette Ha
 nson":http://phillytodo.com/profile/BetteHanson
END:VEVENT
END:VCALENDAR
