BEGIN:VCALENDAR
PRODID:NingEventWidget-v1
VERSION:2.0
METHOD:PUBLISH
BEGIN:VEVENT
UID:4320450:Event:53415
DTSTAMP:20260425T112837Z
SUMMARY:Discover the perfect wines for Thanksgiving!
DESCRIPTION:Whether you're hosting or a guest, knowing what wines go g
 reat with Thanksgiving dinner will be a boost to your morale when you 
 gather round the table with relatives you haven't seen in years. Jet W
 ine Bar owner and world-traveled expert Jill Weber hosts this class an
 d tasting session leading you through some of the LCB's best bets for 
 the holiday. Light snacks included.\nFeatured wines include:\n\nDomain
 e Plageoles, Gaillac Mauzac Nature (2015)\nCacique Maravilla, Valle de
 l BÃ­o-BÃ­o Gutiflower (2015)\nCirelli, Cerasuolo dâ€™Abruzzo (2016)\n
 Domaine de Botheland Laurence et Remi Dufaitre, Beaujolais-Villages Lâ
 €™Air de Rien (2013)\nTenuta la Favola, Nero dâ€™Avola Sicilia IGPÂ (2
 015)\n\n\nTickets can be purchase in advance for $35 (Seating is limit
 ed). For more information, please go to ticketleap.com.Â \n\nFor more 
 information visit http://phillytodo.com/events/discover-the-perfect-wi
 nes-for-thanksgiving
DTSTART:20171114T233000Z
DTEND:20171115T013000Z
CATEGORIES:wine, tasting
LOCATION:Jet Wine Bar
WEBSITE:https://jetwinebar.ticketleap.com/wine-tasting-for-thanksgivin
 g-return-to-the-roost/details
URL:https://jetwinebar.ticketleap.com/wine-tasting-for-thanksgiving-re
 turn-to-the-roost/details
CONTACT:215.735.1116
ORGANIZER:Jet Wine Bar
ATTACH;FMTTYPE="image/jpeg":http://storage.ning.com/topology/rest/1.0/
 file/get/3055009714?profile=original
ATTENDEE;ROLE=REQ-PARTICIPANT;PARTSTAT=ACCEPTED;RSVP=TRUE;CN="Punch Me
 dia":http://phillytodo.com/profile/PunchMedia
END:VEVENT
END:VCALENDAR
