BEGIN:VCALENDAR
PRODID:NingEventWidget-v1
VERSION:2.0
METHOD:PUBLISH
BEGIN:VEVENT
UID:4320450:Event:31984
DTSTAMP:20260425T141343Z
SUMMARY:Discover Outdoors Philadelphia Launch Party
DESCRIPTION:Come celebrate the launch of Discover Outdoors in Philadel
 phia and meet other outdoor enthusiasts who proudly promote a lifestyl
 e filled with adventure. With happy hour specials all evening, we’ll
  schmooze the night away, talking about adventure in our new location 
 while looking out over the Schuylkill River.\nMeet other adventurous P
 hiladelphians, mingle with the guide’s and learn about the season’
 s best getaways (including a jam-packed summer of international trips)
 .\n\nMake sure to register on the website, so we have your name on the
  list.\n\nFor more information visit http://phillytodo.com/events/disc
 over-outdoors-philadelphia-launch-party
DTSTART:20130430T220000Z
DTEND:20130501T010000Z
CATEGORIES:"launch party"
LOCATION:Manayunk Brewery
WEBSITE:http://www.discoveroutdoors.com/phi/index.php/trips/sub/Philad
 elphia_launch_party/5682
URL:http://www.discoveroutdoors.com/phi/index.php/trips/sub/Philadelph
 ia_launch_party/5682
CONTACT:
ORGANIZER:Discover Outdoors
ATTACH;FMTTYPE="image/jpeg":http://storage.ning.com/topology/rest/1.0/
 file/get/3054965019?profile=original
ATTENDEE;ROLE=REQ-PARTICIPANT;PARTSTAT=ACCEPTED;RSVP=TRUE;CN="Akari Ya
 nada":http://phillytodo.com/profile/AkariYanada
END:VEVENT
END:VCALENDAR
