BEGIN:VCALENDAR
PRODID:NingEventWidget-v1
VERSION:2.0
METHOD:PUBLISH
BEGIN:VEVENT
UID:4320450:Event:52546
DTSTAMP:20260425T124849Z
SUMMARY:Dinner with Dracula
DESCRIPTION:Join Hyatt at The Bellevue for a special screening of the 
 1931 classic Dracula. Come dressed as Dracula or in your best 1930’s
  attire and you can win a dinner for two at XIX (Nineteen) Restaurant 
 during a special costume contest. The XIX Restaurant bar will be avail
 able before 7 pm for attendees to take advantage of specialty Hallowee
 n cocktails. Pre-fixe dinner menu includes an appetizer, entrée & des
 sert. Gourmet popcorn and movie concessions will be available for purc
 hase until 10 pm respectively. Reservations must be made in advance by
  calling 215-790-1919 (note dietary restrictions upon reservation).\n\
 nFor more information visit http://phillytodo.com/events/dinner-with-d
 racula
DTSTART:20171031T230000Z
DTEND:20171101T020000Z
CATEGORIES:film, screening
LOCATION:Rose Garden Ballroom at the Hyatt at The Bellevue
WEBSITE:
URL:
CONTACT:215-790-1919
ORGANIZER:The Hyatt at The Bellvue
ATTACH;FMTTYPE="image/jpeg":http://storage.ning.com/topology/rest/1.0/
 file/get/3055009603?profile=original
ATTENDEE;ROLE=REQ-PARTICIPANT;PARTSTAT=ACCEPTED;RSVP=TRUE;CN="Bryan Ch
 an":http://phillytodo.com/profile/BryanChan
END:VEVENT
END:VCALENDAR
