BEGIN:VCALENDAR
PRODID:NingEventWidget-v1
VERSION:2.0
METHOD:PUBLISH
BEGIN:VEVENT
UID:4320450:Event:40006
DTSTAMP:20260425T142538Z
SUMMARY:Dining Out for Life
DESCRIPTION:Dining Out For Life – April 30, 2015 – is quickly a
 pproaching, so be sure to save the date! Well over 150 restaurants ac
 ross the Delaware Valley will donate 33% of the night's proceeds to be
 nefit men, women and children with HIV/AIDS. Dining Out for Life was 
 founded in Philadelphia by ActionAIDS, and this year we are celebrati
 ng our 25th Anniversary!\n\n\nFor more information visit http://philly
 todo.com/events/dining-out-for-life
DTSTART:20150430T040000Z
DTEND:20150501T035900Z
CATEGORIES:fundraiser
LOCATION:Philadelphia/Delaware Valley
WEBSITE:http://www.diningoutforlife.com/philadelphia
URL:http://www.diningoutforlife.com/philadelphia
CONTACT:2159810088
ORGANIZER:ActionAIDS
ATTACH;FMTTYPE="image/jpeg":http://storage.ning.com/topology/rest/1.0/
 file/get/3054987248?profile=original
ATTENDEE;ROLE=REQ-PARTICIPANT;PARTSTAT=ACCEPTED;RSVP=TRUE;CN="Ethan Bl
 ades":http://phillytodo.com/profile/EthanBlades
END:VEVENT
END:VCALENDAR
