BEGIN:VCALENDAR
PRODID:NingEventWidget-v1
VERSION:2.0
METHOD:PUBLISH
BEGIN:VEVENT
UID:4320450:Event:5603
DTSTAMP:20260425T160212Z
SUMMARY:Dining Out for Life 2011
DESCRIPTION:On Thursday, April 28, 2011 over 200 restaurants across th
 e Delaware Valley will be participating in what the Philadelphia Inqui
 rer has called \"the busiest restaurant night of the year!\". Benefiti
 ng thousands of men, women, and children throughout our region. Please
  visit the participating restaurant page where you can search by locat
 ion, cuisine type, meal served - even for restaurants taking part in o
 ur special \"20% Off Tuesday\" promotion - details on the promotion ar
 e on the Participating Restaurant page - please make you reservations 
 soon and remember to support these amazing restaurants throughout the 
 year, they truly make a difference in your community!\nRemember, makin
 g a difference is as easy as going out to eat! Each of our restaurants
  will donate 33% of the cost of your meal to the fight against HIV & A
 IDS.\n\nFor more information visit http://phillytodo.com/events/dining
 -out-for-life-2011
DTSTART:20110428T200000Z
DTEND:20110429T030000Z
CATEGORIES:fund, raiser
LOCATION:All over Philly
WEBSITE:http://www.diningoutforlife.com/philadelphia
URL:http://www.diningoutforlife.com/philadelphia
CONTACT:215-981-0088
ORGANIZER;CN=ActionAIDS:http://phillytodo.com/profile/ActionAIDS
ATTACH;FMTTYPE="image/jpeg":http://storage.ning.com/topology/rest/1.0/
 file/get/3054954504?profile=original
ATTENDEE;ROLE=REQ-PARTICIPANT;PARTSTAT=ACCEPTED;RSVP=TRUE;CN=ActionAID
 S:http://phillytodo.com/profile/ActionAIDS
END:VEVENT
END:VCALENDAR
