BEGIN:VCALENDAR
PRODID:NingEventWidget-v1
VERSION:2.0
METHOD:PUBLISH
BEGIN:VEVENT
UID:4320450:Event:54855
DTSTAMP:20260425T125924Z
SUMMARY:Diane Burko:Vast and Vanishing
DESCRIPTION:Exploring the confluence of arts and science, Rowan Univer
 sity Art Gallery showcases the work of environmental artist Diane Burk
 o in Vast and Vanishing. On display from March 8 – April 21, the exh
 ibit is welcomed with a public reception on Thursday, March 8 from 5:0
 0 – 7:00 p.m.\nEnvironmental artist Diane Burko has been documenting
  glacial recession as part of her ongoing work that intersects art and
  science around the urgent issue of climate change. In this exhibition
  we present a series of large-scale paintings and photographs that cap
 ture the dichotomies found in these extreme frozen environments. Conve
 yed in the work is an inescapable tension and play between monumental 
 and intimate, splendor and somber, and expansive and confined; much li
 ke the climate issues they chronicle.\n\nFor more information visit ht
 tp://phillytodo.com/events/diane-burko-vast-and-vanishing
DTSTART:20180308T050000Z
DTEND:20180422T035900Z
CATEGORIES:art, gallery, exhibition
LOCATION:Rowan University Art Gallery
WEBSITE:http://www.rowan.edu/artgallery
URL:http://www.rowan.edu/artgallery
CONTACT:8562564520
ORGANIZER;CN="mary salvante":http://phillytodo.com/profile/marysalvant
 e
ATTACH;FMTTYPE="image/jpeg":http://storage.ning.com/topology/rest/1.0/
 file/get/3055011809?profile=original
ATTENDEE;ROLE=REQ-PARTICIPANT;PARTSTAT=ACCEPTED;RSVP=TRUE;CN="mary sal
 vante":http://phillytodo.com/profile/marysalvante
END:VEVENT
END:VCALENDAR
