BEGIN:VCALENDAR
PRODID:NingEventWidget-v1
VERSION:2.0
METHOD:PUBLISH
BEGIN:VEVENT
UID:4320450:Event:26619
DTSTAMP:20260425T144316Z
SUMMARY:Devon Still DRAFT PARTY with DeSean Jackson and LeSean McCoy
DESCRIPTION:DEVON STILL Draft PartyHosted by:Rosenhaus Sports Represen
 tationDeSean JacksonLeSean McCoyMeet and Greet from 11-12amDJ AKTIVE S
 pinning Hip Hop, Throwbacks, and DanceDance the night away as your bod
 y is motivated by G's own sultry in house dancers ♥ Only the hottest
  come to G Lounge, so make sure that you attire is well executed.If yo
 ur looking for a VIP experience G also has a full premium bottle list 
 and secluded lounge area.::: Bottle service Email VIP@thebestlounge.co
 m for details :::G LOUNGE111 South 17th StreetPhiladelphia, PA21+ Affa
 ir ● 10pm -2am ● Chic AttireFor more information call 215.564.1515
  or email VIP@thebestlounge.comTweet @GloungephillyFacebook.com/Gphill
 ythebestlounge.com\n\nFor more information visit http://phillytodo.com
 /events/devon-still-draft-party-with-desean-jackson-and-lesean-mccoy
DTSTART:20120507T020000Z
DTEND:20120507T060000Z
CATEGORIES:nightclub, event
LOCATION:G Lounge
WEBSITE:http://www.thebestlounge.com
URL:http://www.thebestlounge.com
CONTACT:215-564-1515
ORGANIZER;CN="G Lounge":http://phillytodo.com/profile/GLounge
ATTACH;FMTTYPE="image/jpeg":http://storage.ning.com/topology/rest/1.0/
 file/get/3054958842?profile=original
ATTENDEE;ROLE=REQ-PARTICIPANT;PARTSTAT=ACCEPTED;RSVP=TRUE;CN="G Lounge
 ":http://phillytodo.com/profile/GLounge
END:VEVENT
END:VCALENDAR
