BEGIN:VCALENDAR
PRODID:NingEventWidget-v1
VERSION:2.0
METHOD:PUBLISH
BEGIN:VEVENT
UID:4320450:Event:28624
DTSTAMP:20260425T144301Z
SUMMARY:Devilish Dinner Party
DESCRIPTION:Devil’s Alley Bar & Grille, 1907 Chestnut Street, fires
  up a special menu of tricks and treats for the debut of a Devilish Di
 nner Party, on Saturday, October 27, 2012, starting at 4:00pm. Chef 
 Brian Fidiam serves up a special a la carte with sweet and hot appetiz
 ers, entrees and desserts will include Deviled Egg Trio, Ghostly Wings
 , Jack o’Lantern Risotto, “Spaghetti” and Shrimp Fra Diavlo, and
  Candy Corn Bread Pudding.  Diners who dress like the Devil (or wear 
 Devil-inspired accessories) will receive 20% off their bill. One disco
 unt available per costumed diner.   Stay after for the Dance with th
 e Devil Party, starting at 9pm with free cover, prizes, costume contes
 t, dancing, DJ and more.  For more info, contact the Devil at (215) 
 751-0707, visit www.devilsalleybarandgrill.com , follow @devilsalley o
 n Twitter or like “Devil’s Alley” on Facebook.com.\n\nFor more i
 nformation visit http://phillytodo.com/events/devilish-dinner-party
DTSTART:20121027T200000Z
DTEND:20121028T010000Z
CATEGORIES:halloween, dinner
LOCATION:Devil's Alley
WEBSITE:https://www.facebook.com/events/249779015144555/?ref=ts&fref=t
 s
URL:https://www.facebook.com/events/249779015144555/?ref=ts&fref=ts
CONTACT:
ORGANIZER;CN="Aversa PR & Events":http://phillytodo.com/profile/KoryAv
 ersa277
ATTACH;FMTTYPE="image/jpeg":http://storage.ning.com/topology/rest/1.0/
 file/get/3054962961?profile=original
ATTENDEE;ROLE=REQ-PARTICIPANT;PARTSTAT=ACCEPTED;RSVP=TRUE;CN="Aversa P
 R & Events":http://phillytodo.com/profile/KoryAversa277
END:VEVENT
END:VCALENDAR
