BEGIN:VCALENDAR
PRODID:NingEventWidget-v1
VERSION:2.0
METHOD:PUBLISH
BEGIN:VEVENT
UID:4320450:Event:53916
DTSTAMP:20260425T124914Z
SUMMARY:Devil's Den Annual Fireplace Lightning
DESCRIPTION:The start of December marks Devil’s Den's annual first l
 ighting of the craft beer bar's iconic wood-burning double-sided firep
 lace. This Friday, December 1 at 7 p.m., Devil’s Den Owner, Erin Wal
 lace, will light the fireplace for the first time this season and cele
 brate with the now-famous Annual Fireplace Lighting Party, featuring a
 n expertly curated list of smoked and wood-aged beers, among other fes
 tivities. Additionally, with the donation of one unwrapped toy, guest
 s can cozy up to the fire with a FREE Coppertail or Evil Genius draft 
 beer from now until December 15. One gift equals one beer per day! Cli
 ck here to see what toys are recommended for donation, all toys will b
 e donated to CHOP. Beverage menu for Annual Fireplace Lighting Party:
  Draft List \n\nDogfish Head Oak Aged Vanilla World Wide Stout ($12)
  \nWicked Weed Devilwood ($11) \nWeyerbacher D'Tango ($11) \nCascad
 e Manhattan ($12) \nKentucky Tangerine Barrel Cream Ale ($6) \nOmmeg
 ang Smoked Porter ($6) \n\nBourbon Barrel Aged Wines \n\nRobert Mond
 avi Private Select Bourbon Barrel Aged\nChardonnay & Cabernet Sauvigno
 n ($12) \n\nWinter Cocktails \n\nHot Apple Cider with your choice of
  shot (MP) \nFireplace Sling - Bulliet Rye Whiskey, Maple Syrup, Cinn
 amon Bitters ($10) \nThe Caramel Devil - Toasted Caramel Whiskey, Cho
 colate Syrup, Half & Half, Left Hand Milk Stout ($9) \n\n\nFor more i
 nformation visit http://phillytodo.com/events/devil-s-den-annual-firep
 lace-lightning
DTSTART:20171202T000000Z
DTEND:20171202T070000Z
CATEGORIES:holiday, party, fundraiser
LOCATION:Devil's Den Philadelphia
WEBSITE:http://www.devilsdenphilly.com/
URL:http://www.devilsdenphilly.com/
CONTACT:(215) 339-0855
ORGANIZER:Devil's Den Philadelphia
ATTACH;FMTTYPE="image/jpeg":http://storage.ning.com/topology/rest/1.0/
 file/get/3055009607?profile=original
ATTENDEE;ROLE=REQ-PARTICIPANT;PARTSTAT=ACCEPTED;RSVP=TRUE;CN="Punch Me
 dia":http://phillytodo.com/profile/PunchMedia
END:VEVENT
END:VCALENDAR
