BEGIN:VCALENDAR
PRODID:NingEventWidget-v1
VERSION:2.0
METHOD:PUBLISH
BEGIN:VEVENT
UID:4320450:Event:49741
DTSTAMP:20260425T144445Z
SUMMARY:Developing Wisdom: A Day Full of Emptiness (Teachings & Medita
 tions)
DESCRIPTION:\nOut of love, Buddha gave many profound and practical tea
 chings, but the most precious and supreme are the perfection of wisdom
  sutras. During this day course, we will receive a transmission of the
  heart sutra: the essence of the perfection of wisdom. Buddha’s ulti
 mate intention is to lead each and every living being to the supreme h
 appiness of enlightenment. In this day course, we will receive teachin
 gs on the wisdom of emptiness which will completely free our hearts an
 d fill us with bliss and joy.\n\nTaught by Resident Teacher, Gen Tenzi
 n. Everyone is welcome.\n\nCost: $30; $15 for members\n\nSchedule:11:
 00am-12:30pm: Teachings & Meditation2:00-3:15pm: Teachings3:30-4:00pm:
  Meditation\n \n\nFor more information visit http://phillytodo.com/ev
 ents/developing-wisdom-a-day-full-of-emptiness-teachings-meditations
DTSTART:20170506T150000Z
DTEND:20170506T200000Z
CATEGORIES:meditation, class
LOCATION:Kadampa Meditation Center Philadelphia
WEBSITE:https://www.google.com/?gws_rd=ssl#q=1102+pine+st
URL:https://www.google.com/?gws_rd=ssl#q=1102+pine+st
CONTACT:267-702-3817
ORGANIZER:Kadampa Meditation Center Philadelphia
ATTACH;FMTTYPE="image/jpeg":http://storage.ning.com/topology/rest/1.0/
 file/get/3055003413?profile=original
ATTENDEE;ROLE=REQ-PARTICIPANT;PARTSTAT=ACCEPTED;RSVP=TRUE;CN="Educatio
 n Program Coordinator":http://phillytodo.com/profile/EducationProgramC
 oordinator
END:VEVENT
END:VCALENDAR
