BEGIN:VCALENDAR
PRODID:NingEventWidget-v1
VERSION:2.0
METHOD:PUBLISH
BEGIN:VEVENT
UID:4320450:Event:48502
DTSTAMP:20260425T131310Z
SUMMARY:Design Your Destiny: Apply for the Philadelphia Fashion Incuba
 tor 2017 Residency
DESCRIPTION:Design your destiny with Philadelphia Fashion Incubator‘
 s Designers-in-Residence program beginning March 2017! Philadelphia Fa
 shion Incubator at Macy’s Center City is looking to provide six emer
 ging Philadelphia-based apparel and/or accessories designers with the 
 resources – Business education, mentoring, networking, and more – 
 to launch and grow their fashion business. Throughout the course of on
 e year, the Designers-in-Residence will be required to attend and co
 mplete a mandatory core curriculum of workshops and seminars focused o
 n business development. Deadline to apply is January 6, 2017.\n \nTo
  apply, arrange for a tour of the Incubator studio, or for more inform
 ation, visit us at www.philadelphiafasionincubator.com.\n\nFor more i
 nformation visit http://phillytodo.com/events/design-your-destiny-appl
 y-for-the-philadelphia-fashion-incubator
DTSTART:20161208T230000Z
DTEND:20170107T000000Z
CATEGORIES:residency, application
LOCATION:Macy's
WEBSITE:http://www.philadelphiafasionincubator.com.
URL:http://www.philadelphiafasionincubator.com.
CONTACT:
ORGANIZER;CN=CashmanAssoc:http://phillytodo.com/profile/CashmanAssoc
ATTACH;FMTTYPE="image/jpeg":http://storage.ning.com/topology/rest/1.0/
 file/get/3055001556?profile=original
ATTENDEE;ROLE=REQ-PARTICIPANT;PARTSTAT=ACCEPTED;RSVP=TRUE;CN=CashmanAs
 soc:http://phillytodo.com/profile/CashmanAssoc
END:VEVENT
END:VCALENDAR
