BEGIN:VCALENDAR
PRODID:NingEventWidget-v1
VERSION:2.0
METHOD:PUBLISH
BEGIN:VEVENT
UID:4320450:Event:2238
DTSTAMP:20260425T142548Z
SUMMARY:DELILAH'S TAILGATE CHALLENGE
DESCRIPTION:Every HOME game...may the best party win!! 610 WIP's Jason
  Myrtetus and The Delilah's Dream Team will be searching the lots for 
 the best tailgate party. The winner will receive a tailgate party at D
 elilah's with free drinks & food during the next away game along with 
 a featured webisode on 610wip.com. Text THE DEN to 67768 to let us kno
 w where to find your party! Also, join us beside the 610WIP pre-game s
 how at FDR Park for The Ultimate Delilah's Tailgate...complete with fo
 od, drinks and game-day gear presented in part by Texas Wieners.\n\nFo
 r more information visit http://phillytodo.com/events/delilahs-tailgat
 e-challenge
DTSTART:20100912T150000Z
DTEND:20100913T030000Z
CATEGORIES:tailgate, party
LOCATION:Delilah's Gentlemen's Club & Steakhouse
WEBSITE:http://www.delilahs.com
URL:http://www.delilahs.com
CONTACT:215-625-2800 x101
ORGANIZER;CN="Delilah's":http://phillytodo.com/profile/Delilahs
ATTACH;FMTTYPE="image/jpeg":http://storage.ning.com/topology/rest/1.0/
 file/get/3054950312?profile=original
ATTENDEE;ROLE=REQ-PARTICIPANT;PARTSTAT=ACCEPTED;RSVP=TRUE;CN="Delilah'
 s":http://phillytodo.com/profile/Delilahs
END:VEVENT
END:VCALENDAR
